BEGIN:VCALENDAR
VERSION:2.0
PRODID:-//Hermandad del  Rocío de Antequera - ECPv6.15.14//NONSGML v1.0//EN
CALSCALE:GREGORIAN
METHOD:PUBLISH
X-ORIGINAL-URL:https://hermandaddelrociodeantequera.org
X-WR-CALDESC:Eventos para Hermandad del  Rocío de Antequera
REFRESH-INTERVAL;VALUE=DURATION:PT1H
X-Robots-Tag:noindex
X-PUBLISHED-TTL:PT1H
BEGIN:VTIMEZONE
TZID:Europe/Madrid
BEGIN:DAYLIGHT
TZOFFSETFROM:+0100
TZOFFSETTO:+0200
TZNAME:CEST
DTSTART:20230326T010000
END:DAYLIGHT
BEGIN:STANDARD
TZOFFSETFROM:+0200
TZOFFSETTO:+0100
TZNAME:CET
DTSTART:20231029T010000
END:STANDARD
BEGIN:DAYLIGHT
TZOFFSETFROM:+0100
TZOFFSETTO:+0200
TZNAME:CEST
DTSTART:20240331T010000
END:DAYLIGHT
BEGIN:STANDARD
TZOFFSETFROM:+0200
TZOFFSETTO:+0100
TZNAME:CET
DTSTART:20241027T010000
END:STANDARD
BEGIN:DAYLIGHT
TZOFFSETFROM:+0100
TZOFFSETTO:+0200
TZNAME:CEST
DTSTART:20250330T010000
END:DAYLIGHT
BEGIN:STANDARD
TZOFFSETFROM:+0200
TZOFFSETTO:+0100
TZNAME:CET
DTSTART:20251026T010000
END:STANDARD
BEGIN:DAYLIGHT
TZOFFSETFROM:+0100
TZOFFSETTO:+0200
TZNAME:CEST
DTSTART:20260329T010000
END:DAYLIGHT
BEGIN:STANDARD
TZOFFSETFROM:+0200
TZOFFSETTO:+0100
TZNAME:CET
DTSTART:20261025T010000
END:STANDARD
END:VTIMEZONE
BEGIN:VEVENT
DTSTART;TZID=Europe/Madrid:20250628T190000
DTEND;TZID=Europe/Madrid:20250628T210000
DTSTAMP:20260421T141810
CREATED:20241209T200501Z
LAST-MODIFIED:20241209T214904Z
UID:2096-1751137200-1751144400@hermandaddelrociodeantequera.org
SUMMARY:Rosario y Misa de Hermandad
DESCRIPTION:
URL:https://hermandaddelrociodeantequera.org/event/rosario-y-misa-de-hermandad-5/
LOCATION:Parroquia de San Miguel\, C. San Miguel\, 49\, Antequera\, Malaga\, 29200\, Spain
CATEGORIES:Misas
END:VEVENT
BEGIN:VEVENT
DTSTART;TZID=Europe/Madrid:20250613T203000
DTEND;TZID=Europe/Madrid:20250613T213000
DTSTAMP:20260421T141810
CREATED:20241209T200411Z
LAST-MODIFIED:20241209T214921Z
UID:2094-1749846600-1749850200@hermandaddelrociodeantequera.org
SUMMARY:Misa de Acción de Gracias
DESCRIPTION:
URL:https://hermandaddelrociodeantequera.org/event/misa-de-accion-de-gracias/
LOCATION:Parroquia de San Miguel\, C. San Miguel\, 49\, Antequera\, Malaga\, 29200\, Spain
CATEGORIES:Misas
END:VEVENT
BEGIN:VEVENT
DTSTART;TZID=Europe/Madrid:20250531T183000
DTEND;TZID=Europe/Madrid:20250531T200000
DTSTAMP:20260421T141810
CREATED:20241209T200302Z
LAST-MODIFIED:20241209T214930Z
UID:2092-1748716200-1748721600@hermandaddelrociodeantequera.org
SUMMARY:Misa de Envío de romeros
DESCRIPTION:
URL:https://hermandaddelrociodeantequera.org/event/misa-de-envio-de-romeros/
LOCATION:Parroquia de San Miguel\, C. San Miguel\, 49\, Antequera\, Malaga\, 29200\, Spain
CATEGORIES:Misas
END:VEVENT
BEGIN:VEVENT
DTSTART;TZID=Europe/Madrid:20250511T133000
DTEND;TZID=Europe/Madrid:20250511T210000
DTSTAMP:20260421T141810
CREATED:20241209T200206Z
LAST-MODIFIED:20241209T214942Z
UID:2090-1746970200-1746997200@hermandaddelrociodeantequera.org
SUMMARY:Pregón Rociero
DESCRIPTION:A cargo de Don Carlos Montes Corredera.
URL:https://hermandaddelrociodeantequera.org/event/pregon-rociero/
LOCATION:Parroquia de San Miguel\, C. San Miguel\, 49\, Antequera\, Malaga\, 29200\, Spain
CATEGORIES:Eventos
END:VEVENT
BEGIN:VEVENT
DTSTART;TZID=Europe/Madrid:20250510T190000
DTEND;TZID=Europe/Madrid:20250510T210000
DTSTAMP:20260421T141810
CREATED:20241209T200023Z
LAST-MODIFIED:20241209T214950Z
UID:2088-1746903600-1746910800@hermandaddelrociodeantequera.org
SUMMARY:Triduo de la Hermandad
DESCRIPTION:
URL:https://hermandaddelrociodeantequera.org/event/triduo-de-la-hermandad-3/
LOCATION:Parroquia de San Miguel\, C. San Miguel\, 49\, Antequera\, Malaga\, 29200\, Spain
CATEGORIES:Eventos
END:VEVENT
BEGIN:VEVENT
DTSTART;TZID=Europe/Madrid:20250509T190000
DTEND;TZID=Europe/Madrid:20250509T210000
DTSTAMP:20260421T141810
CREATED:20241209T195922Z
LAST-MODIFIED:20241209T214957Z
UID:2086-1746817200-1746824400@hermandaddelrociodeantequera.org
SUMMARY:Triduo de la Hermandad
DESCRIPTION:
URL:https://hermandaddelrociodeantequera.org/event/triduo-de-la-hermandad-2/
LOCATION:Parroquia de San Miguel\, C. San Miguel\, 49\, Antequera\, Malaga\, 29200\, Spain
CATEGORIES:Eventos
END:VEVENT
BEGIN:VEVENT
DTSTART;TZID=Europe/Madrid:20250508T190000
DTEND;TZID=Europe/Madrid:20250510T210000
DTSTAMP:20260421T141810
CREATED:20241209T195430Z
LAST-MODIFIED:20241209T215003Z
UID:2084-1746730800-1746910800@hermandaddelrociodeantequera.org
SUMMARY:Triduo de la Hermandad
DESCRIPTION:
URL:https://hermandaddelrociodeantequera.org/event/triduo-de-la-hermandad/
LOCATION:Parroquia de San Miguel\, C. San Miguel\, 49\, Antequera\, Malaga\, 29200\, Spain
CATEGORIES:Eventos
END:VEVENT
BEGIN:VEVENT
DTSTART;TZID=Europe/Madrid:20250426T190000
DTEND;TZID=Europe/Madrid:20250426T210000
DTSTAMP:20260421T141810
CREATED:20241209T195246Z
LAST-MODIFIED:20241209T211320Z
UID:2082-1745694000-1745701200@hermandaddelrociodeantequera.org
SUMMARY:Rosario y Misa de Hermandad
DESCRIPTION:
URL:https://hermandaddelrociodeantequera.org/event/rosario-y-misa-de-hermandad-4/
LOCATION:Parroquia de San Miguel\, C. San Miguel\, 49\, Antequera\, Malaga\, 29200\, Spain
END:VEVENT
BEGIN:VEVENT
DTSTART;TZID=Europe/Madrid:20250322T190000
DTEND;TZID=Europe/Madrid:20250322T210000
DTSTAMP:20260421T141810
CREATED:20241209T195105Z
LAST-MODIFIED:20241209T215009Z
UID:2080-1742670000-1742677200@hermandaddelrociodeantequera.org
SUMMARY:Rosario y Misa de Hermandad
DESCRIPTION:
URL:https://hermandaddelrociodeantequera.org/event/rosario-y-misa-de-hermandad-3/
LOCATION:Parroquia de San Miguel\, C. San Miguel\, 49\, Antequera\, Malaga\, 29200\, Spain
CATEGORIES:Misas
END:VEVENT
BEGIN:VEVENT
DTSTART;TZID=Europe/Madrid:20250309T133000
DTEND;TZID=Europe/Madrid:20250309T220000
DTSTAMP:20260421T141810
CREATED:20241209T193504Z
LAST-MODIFIED:20241209T215015Z
UID:2078-1741527000-1741557600@hermandaddelrociodeantequera.org
SUMMARY:Primer cohete de Cuaresma y Entrega de Pastas al Pregonero
DESCRIPTION:
URL:https://hermandaddelrociodeantequera.org/event/primer-cohete-de-cuaresma-y-entrega-de-pastas-al-pregonero/
LOCATION:Parroquia de San Miguel\, C. San Miguel\, 49\, Antequera\, Malaga\, 29200\, Spain
CATEGORIES:Eventos
END:VEVENT
BEGIN:VEVENT
DTSTART;TZID=Europe/Madrid:20250222T190000
DTEND;TZID=Europe/Madrid:20250222T230000
DTSTAMP:20260421T141810
CREATED:20241209T193316Z
LAST-MODIFIED:20241209T215022Z
UID:2076-1740250800-1740265200@hermandaddelrociodeantequera.org
SUMMARY:Rosario y Misa de Hermandad
DESCRIPTION:
URL:https://hermandaddelrociodeantequera.org/event/rosario-y-misa-de-hermandad-2/
LOCATION:Parroquia de San Miguel\, C. San Miguel\, 49\, Antequera\, Malaga\, 29200\, Spain
CATEGORIES:Misas
END:VEVENT
BEGIN:VEVENT
DTSTART;TZID=Europe/Madrid:20250201T193000
DTEND;TZID=Europe/Madrid:20250201T230000
DTSTAMP:20260421T141810
CREATED:20241209T193123Z
LAST-MODIFIED:20241209T215028Z
UID:2074-1738438200-1738450800@hermandaddelrociodeantequera.org
SUMMARY:Cabildo de cuentas  y Fiesta de La Luz
DESCRIPTION:
URL:https://hermandaddelrociodeantequera.org/event/cabildo-de-cuentas-y-fiesta-de-la-luz/
LOCATION:Parroquia de San Miguel\, C. San Miguel\, 49\, Antequera\, Malaga\, 29200\, Spain
CATEGORIES:Eventos
END:VEVENT
BEGIN:VEVENT
DTSTART;TZID=Europe/Madrid:20250125T190000
DTEND;TZID=Europe/Madrid:20250125T220000
DTSTAMP:20260421T141810
CREATED:20241209T192500Z
LAST-MODIFIED:20241209T215044Z
UID:2070-1737831600-1737842400@hermandaddelrociodeantequera.org
SUMMARY:Rosario y Misa de Hermandad
DESCRIPTION:
URL:https://hermandaddelrociodeantequera.org/event/rosario-y-misa-de-hermandad/
LOCATION:Parroquia de San Miguel\, C. San Miguel\, 49\, Antequera\, Malaga\, 29200\, Spain
CATEGORIES:Misas
END:VEVENT
BEGIN:VEVENT
DTSTART;TZID=Europe/Madrid:20241215T133000
DTEND;TZID=Europe/Madrid:20241215T170000
DTSTAMP:20260421T141810
CREATED:20241206T222241Z
LAST-MODIFIED:20241209T215054Z
UID:2061-1734269400-1734282000@hermandaddelrociodeantequera.org
SUMMARY:Función de Navidad
DESCRIPTION:Nos complace anunciar que el próximo domingo 15 de diciembre tendrá lugar la tradicional Función de Navidad en nuestra querida parroquia de San Miguel. \nLa celebración dará comienzo a las 13:30 horas. \nDesde la vocalía de caridad\, hacemos un llamamiento a todos los hermanos y devotos para que se sumen a la noble causa de la recogida de productos para la “Casa Virgen de Espera”. \nSolicitamos pañales de las tallas 1\, 2 y 3\, toallitas\, productos de aseo para adultos y artículos de limpieza. La recogida de estos productos se llevarán a cabo en la celebración de la Función de Navidad. \nUna vez concluida la misa\, extendemos una cordial invitación a todos a compartir un ágape fraterno en la Casa Hermandad\, un momento de convivencia y alegría que fortalecerá nuestros lazos de unión. Los tickets para este ágape podrán adquirirse en Floristería Emi hasta el miércoles 11 de diciembre
URL:https://hermandaddelrociodeantequera.org/event/funcion-de-navidad/
LOCATION:Parroquia de San Miguel\, C. San Miguel\, 49\, Antequera\, Malaga\, 29200\, Spain
CATEGORIES:Eventos
END:VEVENT
END:VCALENDAR